Package: MantelCorr Version: 1.77.0 Command: /home/biocbuild/R/R/bin/R CMD build --keep-empty-dirs --no-resave-data MantelCorr StartedAt: 2025-01-28 23:59:14 -0000 (Tue, 28 Jan 2025) EndedAt: 2025-01-28 23:59:36 -0000 (Tue, 28 Jan 2025) EllapsedTime: 22.0 seconds RetCode: 0 Status: OK PackageFile: MantelCorr_1.77.0.tar.gz PackageFileSize: 942.8 KiB