Package: MantelCorr Version: 1.77.0 Command: /home/biocbuild/R/R/bin/R CMD check --install=check:MantelCorr.install-out.txt --library=/home/biocbuild/R/R/site-library --no-vignettes --timings MantelCorr_1.77.0.tar.gz StartedAt: 2025-01-28 12:02:03 -0000 (Tue, 28 Jan 2025) EndedAt: 2025-01-28 12:02:29 -0000 (Tue, 28 Jan 2025) EllapsedTime: 26.0 seconds RetCode: 0 Status: OK CheckDir: MantelCorr.Rcheck Warnings: 0