Package: MantelCorr Version: 1.77.0 Command: /home/biocbuild/R/R/bin/R CMD INSTALL MantelCorr StartedAt: 2025-01-29 19:31:55 -0000 (Wed, 29 Jan 2025) EndedAt: 2025-01-29 19:32:18 -0000 (Wed, 29 Jan 2025) EllapsedTime: 23.0 seconds RetCode: 0 Status: OK