Package: MantelCorr Version: 1.77.0 Command: rm -rf MantelCorr.buildbin-libdir && mkdir MantelCorr.buildbin-libdir && /Users/biocbuild/BBS/utils/build-universal.sh MantelCorr_1.77.0.tar.gz /Library/Frameworks/R.framework/Resources/bin/R MantelCorr.buildbin-libdir StartedAt: 2025-02-10 01:00:44 -0500 (Mon, 10 Feb 2025) EndedAt: 2025-02-10 01:00:50 -0500 (Mon, 10 Feb 2025) EllapsedTime: 5.8 seconds RetCode: 0 Status: OK PackageFile: MantelCorr_1.77.0.tgz PackageFileSize: 747.6 KiB