Package: MantelCorr Version: 1.77.0 Command: /Library/Frameworks/R.framework/Resources/bin/R CMD build --keep-empty-dirs --no-resave-data MantelCorr StartedAt: 2025-02-09 17:17:49 -0500 (Sun, 09 Feb 2025) EndedAt: 2025-02-09 17:18:04 -0500 (Sun, 09 Feb 2025) EllapsedTime: 14.9 seconds RetCode: 0 Status: OK PackageFile: MantelCorr_1.77.0.tar.gz PackageFileSize: 937.2 KiB