Package: MantelCorr Version: 1.77.0 Command: /Library/Frameworks/R.framework/Resources/bin/R CMD check --install=check:MantelCorr.install-out.txt --library=/Library/Frameworks/R.framework/Resources/library --no-vignettes --timings MantelCorr_1.77.0.tar.gz StartedAt: 2025-02-09 21:38:47 -0500 (Sun, 09 Feb 2025) EndedAt: 2025-02-09 21:39:14 -0500 (Sun, 09 Feb 2025) EllapsedTime: 27.4 seconds RetCode: 0 Status: OK CheckDir: MantelCorr.Rcheck Warnings: 0