Package: MantelCorr Version: 1.77.0 Command: /Library/Frameworks/R.framework/Resources/bin/R CMD INSTALL MantelCorr StartedAt: 2025-02-09 15:04:50 -0500 (Sun, 09 Feb 2025) EndedAt: 2025-02-09 15:05:06 -0500 (Sun, 09 Feb 2025) EllapsedTime: 16.7 seconds RetCode: 0 Status: OK