Package: MantelCorr Version: 1.77.0 Command: /home/biocbuild/bbs-3.21-bioc/R/bin/R CMD build --keep-empty-dirs --no-resave-data MantelCorr StartedAt: 2025-02-09 17:55:07 -0500 (Sun, 09 Feb 2025) EndedAt: 2025-02-09 17:55:16 -0500 (Sun, 09 Feb 2025) EllapsedTime: 9.0 seconds RetCode: 0 Status: OK PackageFile: MantelCorr_1.77.0.tar.gz PackageFileSize: 937.7 KiB