Package: MantelCorr Version: 1.77.0 Command: /home/biocbuild/bbs-3.21-bioc/R/bin/R CMD check --install=check:MantelCorr.install-out.txt --library=/home/biocbuild/bbs-3.21-bioc/R/site-library --timings MantelCorr_1.77.0.tar.gz StartedAt: 2025-02-09 23:44:39 -0500 (Sun, 09 Feb 2025) EndedAt: 2025-02-09 23:45:02 -0500 (Sun, 09 Feb 2025) EllapsedTime: 23.0 seconds RetCode: 0 Status: OK CheckDir: MantelCorr.Rcheck Warnings: 0