Package: MantelCorr Version: 1.77.0 Command: rm -rf MantelCorr.buildbin-libdir && mkdir MantelCorr.buildbin-libdir && E:\biocbuild\bbs-3.21-bioc\R\bin\R.exe CMD INSTALL --build --library=MantelCorr.buildbin-libdir MantelCorr_1.77.0.tar.gz StartedAt: 2025-02-10 08:04:01 -0500 (Mon, 10 Feb 2025) EndedAt: 2025-02-10 08:04:15 -0500 (Mon, 10 Feb 2025) EllapsedTime: 14.8 seconds RetCode: 0 Status: OK PackageFile: MantelCorr_1.77.0.zip PackageFileSize: 586.4 KiB