Package: MantelCorr Version: 1.77.0 Command: E:\biocbuild\bbs-3.21-bioc\R\bin\R.exe CMD check --no-multiarch --install=check:MantelCorr.install-out.txt --library=E:\biocbuild\bbs-3.21-bioc\R\library --no-vignettes --timings MantelCorr_1.77.0.tar.gz StartedAt: 2025-02-10 02:31:18 -0500 (Mon, 10 Feb 2025) EndedAt: 2025-02-10 02:31:47 -0500 (Mon, 10 Feb 2025) EllapsedTime: 28.5 seconds RetCode: 0 Status: OK CheckDir: MantelCorr.Rcheck Warnings: 0