Package: MantelCorr Version: 1.77.0 Command: E:\biocbuild\bbs-3.21-bioc\R\bin\R.exe CMD INSTALL MantelCorr StartedAt: 2025-02-09 15:20:58 -0500 (Sun, 09 Feb 2025) EndedAt: 2025-02-09 15:21:10 -0500 (Sun, 09 Feb 2025) EllapsedTime: 11.7 seconds RetCode: 0 Status: OK