Package: MassArray Version: 1.59.0 Command: rm -rf MassArray.buildbin-libdir && mkdir MassArray.buildbin-libdir && /Users/biocbuild/BBS/utils/build-universal.sh MassArray_1.59.0.tar.gz /Library/Frameworks/R.framework/Resources/bin/R MassArray.buildbin-libdir StartedAt: 2025-02-09 22:19:45 -0500 (Sun, 09 Feb 2025) EndedAt: 2025-02-09 22:19:48 -0500 (Sun, 09 Feb 2025) EllapsedTime: 3.1 seconds RetCode: 0 Status: OK PackageFile: MassArray_1.59.0.tgz PackageFileSize: 650.4 KiB