Package: MassArray Version: 1.59.0 Command: /Library/Frameworks/R.framework/Resources/bin/R CMD INSTALL MassArray StartedAt: 2025-02-03 15:36:11 -0500 (Mon, 03 Feb 2025) EndedAt: 2025-02-03 15:36:17 -0500 (Mon, 03 Feb 2025) EllapsedTime: 5.3 seconds RetCode: 0 Status: OK