Package: MassArray Version: 1.59.0 Command: /home/biocbuild/R/R/bin/R CMD build --keep-empty-dirs --no-resave-data MassArray StartedAt: 2025-01-29 00:00:56 -0000 (Wed, 29 Jan 2025) EndedAt: 2025-01-29 00:01:28 -0000 (Wed, 29 Jan 2025) EllapsedTime: 32.0 seconds RetCode: 0 Status: OK PackageFile: MassArray_1.59.0.tar.gz PackageFileSize: 368.9 KiB