Package: MassArray Version: 1.59.0 Command: rm -rf MassArray.buildbin-libdir && mkdir MassArray.buildbin-libdir && /Users/biocbuild/BBS/utils/build-universal.sh MassArray_1.59.0.tar.gz /Library/Frameworks/R.framework/Resources/bin/R MassArray.buildbin-libdir StartedAt: 2025-02-10 01:00:53 -0500 (Mon, 10 Feb 2025) EndedAt: 2025-02-10 01:01:04 -0500 (Mon, 10 Feb 2025) EllapsedTime: 10.4 seconds RetCode: 0 Status: OK PackageFile: MassArray_1.59.0.tgz PackageFileSize: 648.2 KiB