Package: MassArray Version: 1.59.0 Command: /Library/Frameworks/R.framework/Resources/bin/R CMD build --keep-empty-dirs --no-resave-data MassArray StartedAt: 2025-02-09 17:18:28 -0500 (Sun, 09 Feb 2025) EndedAt: 2025-02-09 17:19:01 -0500 (Sun, 09 Feb 2025) EllapsedTime: 33.1 seconds RetCode: 0 Status: OK PackageFile: MassArray_1.59.0.tar.gz PackageFileSize: 374.4 KiB