Package: MassArray Version: 1.59.0 Command: /Library/Frameworks/R.framework/Resources/bin/R CMD check --install=check:MassArray.install-out.txt --library=/Library/Frameworks/R.framework/Resources/library --no-vignettes --timings MassArray_1.59.0.tar.gz StartedAt: 2025-02-09 21:40:31 -0500 (Sun, 09 Feb 2025) EndedAt: 2025-02-09 21:41:25 -0500 (Sun, 09 Feb 2025) EllapsedTime: 54.3 seconds RetCode: 0 Status: OK CheckDir: MassArray.Rcheck Warnings: 0