Package: MassArray Version: 1.59.0 Command: /home/biocbuild/bbs-3.21-bioc/R/bin/R CMD INSTALL MassArray StartedAt: 2025-02-03 15:12:01 -0500 (Mon, 03 Feb 2025) EndedAt: 2025-02-03 15:12:11 -0500 (Mon, 03 Feb 2025) EllapsedTime: 10.3 seconds RetCode: 0 Status: OK