Package: MassArray Version: 1.59.0 Command: rm -rf MassArray.buildbin-libdir && mkdir MassArray.buildbin-libdir && E:\biocbuild\bbs-3.21-bioc\R\bin\R.exe CMD INSTALL --build --library=MassArray.buildbin-libdir MassArray_1.59.0.tar.gz StartedAt: 2025-02-10 08:04:24 -0500 (Mon, 10 Feb 2025) EndedAt: 2025-02-10 08:05:14 -0500 (Mon, 10 Feb 2025) EllapsedTime: 49.9 seconds RetCode: 0 Status: OK PackageFile: MassArray_1.59.0.zip PackageFileSize: 547.5 KiB