Package: MassArray Version: 1.59.0 Command: chmod a+r MassArray -R && E:\biocbuild\bbs-3.21-bioc\R\bin\R.exe CMD build --keep-empty-dirs --no-resave-data MassArray StartedAt: 2025-02-09 19:39:49 -0500 (Sun, 09 Feb 2025) EndedAt: 2025-02-09 19:40:38 -0500 (Sun, 09 Feb 2025) EllapsedTime: 48.5 seconds RetCode: 0 Status: OK PackageFile: MassArray_1.59.0.tar.gz PackageFileSize: 275.4 KiB