Package: MassSpecWavelet Version: 1.73.1 Command: /Library/Frameworks/R.framework/Resources/bin/R CMD INSTALL MassSpecWavelet StartedAt: 2025-02-04 15:01:07 -0500 (Tue, 04 Feb 2025) EndedAt: 2025-02-04 15:01:09 -0500 (Tue, 04 Feb 2025) EllapsedTime: 1.8 seconds RetCode: 0 Status: OK