Package: MassSpecWavelet Version: 1.73.1 Command: /home/biocbuild/R/R/bin/R CMD build --keep-empty-dirs --no-resave-data MassSpecWavelet StartedAt: 2025-01-29 00:01:12 -0000 (Wed, 29 Jan 2025) EndedAt: 2025-01-29 00:02:24 -0000 (Wed, 29 Jan 2025) EllapsedTime: 72.0 seconds RetCode: 0 Status: OK PackageFile: MassSpecWavelet_1.73.1.tar.gz PackageFileSize: 1.317 MiB