Package: MassSpecWavelet Version: 1.73.1 Command: /home/biocbuild/R/R/bin/R CMD INSTALL MassSpecWavelet StartedAt: 2025-01-29 19:29:40 -0000 (Wed, 29 Jan 2025) EndedAt: 2025-01-29 19:29:49 -0000 (Wed, 29 Jan 2025) EllapsedTime: 9.1 seconds RetCode: 0 Status: OK