Package: MassSpecWavelet Version: 1.73.1 Command: /Library/Frameworks/R.framework/Resources/bin/R CMD build --keep-empty-dirs --no-resave-data MassSpecWavelet StartedAt: 2025-02-09 17:18:35 -0500 (Sun, 09 Feb 2025) EndedAt: 2025-02-09 17:19:37 -0500 (Sun, 09 Feb 2025) EllapsedTime: 62.8 seconds RetCode: 0 Status: OK PackageFile: MassSpecWavelet_1.73.1.tar.gz PackageFileSize: 2.077 MiB