Package: MassSpecWavelet Version: 1.73.1 Command: /Library/Frameworks/R.framework/Resources/bin/R CMD INSTALL MassSpecWavelet StartedAt: 2025-02-09 15:03:26 -0500 (Sun, 09 Feb 2025) EndedAt: 2025-02-09 15:03:39 -0500 (Sun, 09 Feb 2025) EllapsedTime: 13.4 seconds RetCode: 0 Status: OK