Package: MassSpecWavelet Version: 1.73.1 Command: /home/biocbuild/bbs-3.21-bioc/R/bin/R CMD build --keep-empty-dirs --no-resave-data MassSpecWavelet StartedAt: 2025-02-03 18:05:40 -0500 (Mon, 03 Feb 2025) EndedAt: 2025-02-03 18:06:26 -0500 (Mon, 03 Feb 2025) EllapsedTime: 46.0 seconds RetCode: 0 Status: OK PackageFile: MassSpecWavelet_1.73.1.tar.gz PackageFileSize: 2.169 MiB