Package: MassSpecWavelet Version: 1.73.1 Command: rm -rf MassSpecWavelet.buildbin-libdir && mkdir MassSpecWavelet.buildbin-libdir && E:\biocbuild\bbs-3.21-bioc\R\bin\R.exe CMD INSTALL --build --library=MassSpecWavelet.buildbin-libdir MassSpecWavelet_1.73.1.tar.gz StartedAt: 2025-02-04 08:17:53 -0500 (Tue, 04 Feb 2025) EndedAt: 2025-02-04 08:19:01 -0500 (Tue, 04 Feb 2025) EllapsedTime: 67.9 seconds RetCode: 0 Status: OK PackageFile: MassSpecWavelet_1.73.1.zip PackageFileSize: 1.172 MiB