Package: MassSpecWavelet Version: 1.73.1 Command: chmod a+r MassSpecWavelet -R && E:\biocbuild\bbs-3.21-bioc\R\bin\R.exe CMD build --keep-empty-dirs --no-resave-data MassSpecWavelet StartedAt: 2025-02-09 19:40:01 -0500 (Sun, 09 Feb 2025) EndedAt: 2025-02-09 19:41:25 -0500 (Sun, 09 Feb 2025) EllapsedTime: 83.6 seconds RetCode: 0 Status: OK PackageFile: MassSpecWavelet_1.73.1.tar.gz PackageFileSize: 1.081 MiB