Package: MatrixRider Version: 1.39.0 Command: /home/biocbuild/R/R/bin/R CMD build --keep-empty-dirs --no-resave-data MatrixRider StartedAt: 2025-01-29 00:02:10 -0000 (Wed, 29 Jan 2025) EndedAt: 2025-01-29 00:03:26 -0000 (Wed, 29 Jan 2025) EllapsedTime: 76.0 seconds RetCode: 0 Status: OK PackageFile: MatrixRider_1.39.0.tar.gz PackageFileSize: 249.7 KiB