Package: MatrixRider Version: 1.39.0 Command: rm -rf MatrixRider.buildbin-libdir && mkdir MatrixRider.buildbin-libdir && /Users/biocbuild/BBS/utils/build-universal.sh MatrixRider_1.39.0.tar.gz /Library/Frameworks/R.framework/Resources/bin/R MatrixRider.buildbin-libdir StartedAt: 2025-02-13 00:44:04 -0500 (Thu, 13 Feb 2025) EndedAt: 2025-02-13 00:45:04 -0500 (Thu, 13 Feb 2025) EllapsedTime: 60.2 seconds RetCode: 0 Status: OK PackageFile: MatrixRider_1.39.0.tgz PackageFileSize: 285.3 KiB