Package: MatrixRider Version: 1.39.0 Command: /Library/Frameworks/R.framework/Resources/bin/R CMD build --keep-empty-dirs --no-resave-data MatrixRider StartedAt: 2025-02-09 17:18:55 -0500 (Sun, 09 Feb 2025) EndedAt: 2025-02-09 17:20:07 -0500 (Sun, 09 Feb 2025) EllapsedTime: 71.9 seconds RetCode: 0 Status: OK PackageFile: MatrixRider_1.39.0.tar.gz PackageFileSize: 264.4 KiB