Package: MatrixRider Version: 1.39.0 Command: /Library/Frameworks/R.framework/Resources/bin/R CMD check --install=check:MatrixRider.install-out.txt --library=/Library/Frameworks/R.framework/Resources/library --no-vignettes --timings MatrixRider_1.39.0.tar.gz StartedAt: 2025-02-09 21:41:09 -0500 (Sun, 09 Feb 2025) EndedAt: 2025-02-09 21:46:21 -0500 (Sun, 09 Feb 2025) EllapsedTime: 312.2 seconds RetCode: 0 Status: WARNINGS CheckDir: MatrixRider.Rcheck Warnings: 1