Package: MatrixRider Version: 1.39.0 Command: /Library/Frameworks/R.framework/Resources/bin/R CMD INSTALL MatrixRider StartedAt: 2025-02-09 15:23:44 -0500 (Sun, 09 Feb 2025) EndedAt: 2025-02-09 15:24:40 -0500 (Sun, 09 Feb 2025) EllapsedTime: 56.4 seconds RetCode: 0 Status: OK