Package: MatrixRider Version: 1.39.0 Command: chmod a+r MatrixRider -R && E:\biocbuild\bbs-3.21-bioc\R\bin\R.exe CMD build --keep-empty-dirs --no-resave-data MatrixRider StartedAt: 2025-02-09 19:40:39 -0500 (Sun, 09 Feb 2025) EndedAt: 2025-02-09 19:42:00 -0500 (Sun, 09 Feb 2025) EllapsedTime: 80.9 seconds RetCode: 0 Status: OK PackageFile: MatrixRider_1.39.0.tar.gz PackageFileSize: 265.3 KiB