Package: MatrixRider Version: 1.39.0 Command: E:\biocbuild\bbs-3.21-bioc\R\bin\R.exe CMD INSTALL MatrixRider StartedAt: 2025-02-09 16:50:07 -0500 (Sun, 09 Feb 2025) EndedAt: 2025-02-09 16:50:57 -0500 (Sun, 09 Feb 2025) EllapsedTime: 49.6 seconds RetCode: 0 Status: OK