Package: MeSHDbi Version: 1.43.0 Command: /home/biocbuild/R/R/bin/R CMD INSTALL MeSHDbi StartedAt: 2025-01-29 19:47:10 -0000 (Wed, 29 Jan 2025) EndedAt: 2025-01-29 19:47:27 -0000 (Wed, 29 Jan 2025) EllapsedTime: 16.9 seconds RetCode: 0 Status: OK