Package: MeSHDbi Version: 1.43.0 Command: /Library/Frameworks/R.framework/Resources/bin/R CMD check --install=check:MeSHDbi.install-out.txt --library=/Library/Frameworks/R.framework/Resources/library --no-vignettes --timings MeSHDbi_1.43.0.tar.gz StartedAt: 2025-02-09 21:43:56 -0500 (Sun, 09 Feb 2025) EndedAt: 2025-02-09 21:45:57 -0500 (Sun, 09 Feb 2025) EllapsedTime: 121.3 seconds RetCode: 0 Status: OK CheckDir: MeSHDbi.Rcheck Warnings: 0