Package: MeSHDbi Version: 1.43.0 Command: chmod a+r MeSHDbi -R && E:\biocbuild\bbs-3.21-bioc\R\bin\R.exe CMD build --keep-empty-dirs --no-resave-data MeSHDbi StartedAt: 2025-02-09 19:44:14 -0500 (Sun, 09 Feb 2025) EndedAt: 2025-02-09 19:44:52 -0500 (Sun, 09 Feb 2025) EllapsedTime: 37.3 seconds RetCode: 0 Status: OK PackageFile: MeSHDbi_1.43.0.tar.gz PackageFileSize: 51.47 KiB