Package: MeSHDbi Version: 1.43.0 Command: E:\biocbuild\bbs-3.21-bioc\R\bin\R.exe CMD INSTALL MeSHDbi StartedAt: 2025-02-12 15:46:23 -0500 (Wed, 12 Feb 2025) EndedAt: 2025-02-12 15:46:54 -0500 (Wed, 12 Feb 2025) EllapsedTime: 30.6 seconds RetCode: 0 Status: OK