Package: Mergeomics Version: 1.35.0 Command: rm -rf Mergeomics.buildbin-libdir && mkdir Mergeomics.buildbin-libdir && /Users/biocbuild/BBS/utils/build-universal.sh Mergeomics_1.35.0.tar.gz /Library/Frameworks/R.framework/Resources/bin/R Mergeomics.buildbin-libdir StartedAt: 2025-02-04 22:22:00 -0500 (Tue, 04 Feb 2025) EndedAt: 2025-02-04 22:22:03 -0500 (Tue, 04 Feb 2025) EllapsedTime: 3.1 seconds RetCode: 0 Status: OK PackageFile: Mergeomics_1.35.0.tgz PackageFileSize: 3.422 MiB