Package: Mergeomics Version: 1.35.0 Command: /Library/Frameworks/R.framework/Resources/bin/R CMD INSTALL Mergeomics StartedAt: 2025-02-04 15:01:06 -0500 (Tue, 04 Feb 2025) EndedAt: 2025-02-04 15:01:09 -0500 (Tue, 04 Feb 2025) EllapsedTime: 2.5 seconds RetCode: 0 Status: OK