Package: Mergeomics Version: 1.35.0 Command: /home/biocbuild/R/R/bin/R CMD INSTALL Mergeomics StartedAt: 2025-01-29 19:29:37 -0000 (Wed, 29 Jan 2025) EndedAt: 2025-01-29 19:29:48 -0000 (Wed, 29 Jan 2025) EllapsedTime: 11.2 seconds RetCode: 0 Status: OK