Package: Mergeomics Version: 1.35.0 Command: rm -rf Mergeomics.buildbin-libdir && mkdir Mergeomics.buildbin-libdir && /Users/biocbuild/BBS/utils/build-universal.sh Mergeomics_1.35.0.tar.gz /Library/Frameworks/R.framework/Resources/bin/R Mergeomics.buildbin-libdir StartedAt: 2025-02-10 01:01:23 -0500 (Mon, 10 Feb 2025) EndedAt: 2025-02-10 01:01:34 -0500 (Mon, 10 Feb 2025) EllapsedTime: 10.3 seconds RetCode: 0 Status: OK PackageFile: Mergeomics_1.35.0.tgz PackageFileSize: 3.419 MiB