Package: Mergeomics Version: 1.35.0 Command: /Library/Frameworks/R.framework/Resources/bin/R CMD INSTALL Mergeomics StartedAt: 2025-02-09 15:03:24 -0500 (Sun, 09 Feb 2025) EndedAt: 2025-02-09 15:03:37 -0500 (Sun, 09 Feb 2025) EllapsedTime: 13.3 seconds RetCode: 0 Status: OK