Package: Mergeomics Version: 1.35.0 Command: rm -rf Mergeomics.buildbin-libdir && mkdir Mergeomics.buildbin-libdir && E:\biocbuild\bbs-3.21-bioc\R\bin\R.exe CMD INSTALL --build --library=Mergeomics.buildbin-libdir Mergeomics_1.35.0.tar.gz StartedAt: 2025-02-10 08:05:50 -0500 (Mon, 10 Feb 2025) EndedAt: 2025-02-10 08:06:43 -0500 (Mon, 10 Feb 2025) EllapsedTime: 53.1 seconds RetCode: 0 Status: OK PackageFile: Mergeomics_1.35.0.zip PackageFileSize: 3.328 MiB