Package: Mergeomics Version: 1.35.0 Command: chmod a+r Mergeomics -R && E:\biocbuild\bbs-3.21-bioc\R\bin\R.exe CMD build --keep-empty-dirs --no-resave-data Mergeomics StartedAt: 2025-02-04 19:46:36 -0500 (Tue, 04 Feb 2025) EndedAt: 2025-02-04 19:54:25 -0500 (Tue, 04 Feb 2025) EllapsedTime: 468.8 seconds RetCode: 0 Status: OK PackageFile: Mergeomics_1.35.0.tar.gz PackageFileSize: 3.117 MiB