Package: MesKit Version: 1.17.0 Command: /home/biocbuild/R/R/bin/R CMD build --keep-empty-dirs --no-resave-data MesKit StartedAt: 2025-01-29 00:07:19 -0000 (Wed, 29 Jan 2025) EndedAt: 2025-01-29 00:09:27 -0000 (Wed, 29 Jan 2025) EllapsedTime: 128.1 seconds RetCode: 0 Status: OK PackageFile: MesKit_1.17.0.tar.gz PackageFileSize: 2.762 MiB