Package: MesKit Version: 1.17.0 Command: /home/biocbuild/R/R/bin/R CMD INSTALL MesKit StartedAt: 2025-01-29 20:01:44 -0000 (Wed, 29 Jan 2025) EndedAt: 2025-01-29 20:02:15 -0000 (Wed, 29 Jan 2025) EllapsedTime: 30.4 seconds RetCode: 0 Status: OK