Package: MesKit Version: 1.17.0 Command: /Library/Frameworks/R.framework/Resources/bin/R CMD INSTALL MesKit StartedAt: 2025-02-09 15:19:00 -0500 (Sun, 09 Feb 2025) EndedAt: 2025-02-09 15:19:30 -0500 (Sun, 09 Feb 2025) EllapsedTime: 29.9 seconds RetCode: 0 Status: OK